BEGIN:VCALENDAR
VERSION:2.0
PRODID:-//FEP Beaucaire - ECPv6.15.20//NONSGML v1.0//EN
CALSCALE:GREGORIAN
METHOD:PUBLISH
X-ORIGINAL-URL:https://fepbeaucaire.fr
X-WR-CALDESC:Évènements pour FEP Beaucaire
REFRESH-INTERVAL;VALUE=DURATION:PT1H
X-Robots-Tag:noindex
X-PUBLISHED-TTL:PT1H
BEGIN:VTIMEZONE
TZID:Europe/Paris
BEGIN:DAYLIGHT
TZOFFSETFROM:+0100
TZOFFSETTO:+0200
TZNAME:CEST
DTSTART:20220327T010000
END:DAYLIGHT
BEGIN:STANDARD
TZOFFSETFROM:+0200
TZOFFSETTO:+0100
TZNAME:CET
DTSTART:20221030T010000
END:STANDARD
BEGIN:DAYLIGHT
TZOFFSETFROM:+0100
TZOFFSETTO:+0200
TZNAME:CEST
DTSTART:20230326T010000
END:DAYLIGHT
BEGIN:STANDARD
TZOFFSETFROM:+0200
TZOFFSETTO:+0100
TZNAME:CET
DTSTART:20231029T010000
END:STANDARD
BEGIN:DAYLIGHT
TZOFFSETFROM:+0100
TZOFFSETTO:+0200
TZNAME:CEST
DTSTART:20240331T010000
END:DAYLIGHT
BEGIN:STANDARD
TZOFFSETFROM:+0200
TZOFFSETTO:+0100
TZNAME:CET
DTSTART:20241027T010000
END:STANDARD
BEGIN:DAYLIGHT
TZOFFSETFROM:+0100
TZOFFSETTO:+0200
TZNAME:CEST
DTSTART:20250330T010000
END:DAYLIGHT
BEGIN:STANDARD
TZOFFSETFROM:+0200
TZOFFSETTO:+0100
TZNAME:CET
DTSTART:20251026T010000
END:STANDARD
BEGIN:DAYLIGHT
TZOFFSETFROM:+0100
TZOFFSETTO:+0200
TZNAME:CEST
DTSTART:20260329T010000
END:DAYLIGHT
BEGIN:STANDARD
TZOFFSETFROM:+0200
TZOFFSETTO:+0100
TZNAME:CET
DTSTART:20261025T010000
END:STANDARD
BEGIN:DAYLIGHT
TZOFFSETFROM:+0100
TZOFFSETTO:+0200
TZNAME:CEST
DTSTART:20270328T010000
END:DAYLIGHT
BEGIN:STANDARD
TZOFFSETFROM:+0200
TZOFFSETTO:+0100
TZNAME:CET
DTSTART:20271031T010000
END:STANDARD
END:VTIMEZONE
BEGIN:VEVENT
DTSTART;TZID=Europe/Paris:20260307T093000
DTEND;TZID=Europe/Paris:20260307T120000
DTSTAMP:20260419T140728
CREATED:20260303T103457Z
LAST-MODIFIED:20260303T103917Z
UID:409-1772875800-1772884800@fepbeaucaire.fr
SUMMARY:J'aime la Nature propre 2026 !
DESCRIPTION:Rejoignez la Société de Chasse de Beaucaire pour une collecte de déchets dans la nature. RDV le 7 mars 2026 à 9h30 à l’ancienne école de Beaucaire. Café de bienvenue et distribution de gants et sacs. Apéritif offert par les chasseurs à l’issue de la collecte.
URL:https://fepbeaucaire.fr/evenement/jaime-la-nature-propre-2026/
LOCATION:Maison des associations 32410 Beaucaire\, avenue du Ponant\, Beaucaire\, 32410\, France
CATEGORIES:Cours/Ateliers
ATTACH;FMTTYPE=image/jpeg:https://fepbeaucaire.fr/wp-content/uploads/sites/2/2026/03/jaimelanaturecollectedechets-1.jpg
END:VEVENT
BEGIN:VEVENT
DTSTART;VALUE=DATE:20250622
DTEND;VALUE=DATE:20250623
DTSTAMP:20260419T140728
CREATED:20250604T201334Z
LAST-MODIFIED:20250604T201334Z
UID:385-1750550400-1750636799@fepbeaucaire.fr
SUMMARY:XC VTT DE BEAUCAIRE 2025
DESCRIPTION:Le dimanche 22juin 2025 aura lieu le XC de Beaucaire .Les épreuves débuterons à 10h avec un circuit d’initiation pour les touts petits\, les derniers départs des adultes vers 13h30 \, entre les deux les autres catégories jeunes. Un point de restauration ainsi qu’une buvette agrémentera cette journée. Venez nombreux pour vous frotter avec les coureurs locaux. \nfepbeaucaire.fr/…/fiche-technique-organisation.pdf \nTarifs \n3€ initiation \n6€ jeunes \n12€ adultes
URL:https://fepbeaucaire.fr/evenement/xc-vtt-de-beaucaire-2025/
LOCATION:Catreille\, Route des carrières\, Castera Verduzan\, 32410\, France
CATEGORIES:VTT
ATTACH;FMTTYPE=image/png:https://fepbeaucaire.fr/wp-content/uploads/sites/2/2025/06/image-affiche.png
ORGANIZER;CN="KUROWSKI LAURENT":MAILTO:laurent.kurowski@sfr.fr
END:VEVENT
BEGIN:VEVENT
DTSTART;VALUE=DATE:20240421
DTEND;VALUE=DATE:20240422
DTSTAMP:20260419T140728
CREATED:20240310T181336Z
LAST-MODIFIED:20240310T181336Z
UID:350-1713657600-1713743999@fepbeaucaire.fr
SUMMARY:REGIONAL VTT OCCITANIE BEAUCAIRE 2024
DESCRIPTION:
URL:https://fepbeaucaire.fr/evenement/regional-vtt-occitanie-beaucaire-2024/
CATEGORIES:VTT
ORGANIZER;CN="KUROWSKI LAURENT":MAILTO:laurent.kurowski@sfr.fr
END:VEVENT
BEGIN:VEVENT
DTSTART;TZID=Europe/Paris:20240227T170000
DTEND;TZID=Europe/Paris:20240227T210000
DTSTAMP:20260419T140728
CREATED:20240212T122053Z
LAST-MODIFIED:20240212T122053Z
UID:342-1709053200-1709067600@fepbeaucaire.fr
SUMMARY:Cours de sport
DESCRIPTION:Les cours de sport avec Carmen reprennent le mardi 27 février !!! \n2 sessions d’une heure sont possibles\, une à 17h et l’autre à 20h\, choisissez votre horaire et contactez nous pour vous inscrire c’est gratuit!!!!
URL:https://fepbeaucaire.fr/evenement/cours-de-sport-4/
LOCATION:Maison des associations 32410 Beaucaire\, avenue du Ponant\, Beaucaire\, 32410\, France
CATEGORIES:Cours/Ateliers
ATTACH;FMTTYPE=image/jpeg:https://fepbeaucaire.fr/wp-content/uploads/sites/2/2024/02/Cours-de-sport-1.jpg
END:VEVENT
BEGIN:VEVENT
DTSTART;TZID=Europe/Paris:20240225T080000
DTEND;TZID=Europe/Paris:20240225T170000
DTSTAMP:20260419T140728
CREATED:20231212T082914Z
LAST-MODIFIED:20231212T082929Z
UID:323-1708848000-1708880400@fepbeaucaire.fr
SUMMARY:Vide Grenier
DESCRIPTION:
URL:https://fepbeaucaire.fr/evenement/vide-grenier/
LOCATION:Place du Village\, Beaucaire\, 32410
CATEGORIES:Vide Grenier
ATTACH;FMTTYPE=image/jpeg:https://fepbeaucaire.fr/wp-content/uploads/sites/2/2023/12/AFFICHE-vide-grenier-fevrier-2024-1.jpg
END:VEVENT
BEGIN:VEVENT
DTSTART;TZID=Europe/Paris:20240117T143000
DTEND;TZID=Europe/Paris:20240117T170000
DTSTAMP:20260419T140728
CREATED:20240112T131259Z
LAST-MODIFIED:20240112T131259Z
UID:332-1705501800-1705510800@fepbeaucaire.fr
SUMMARY:Ouverture de la bibliothèque
DESCRIPTION:
URL:https://fepbeaucaire.fr/evenement/ouverture-de-la-bibliotheque/
LOCATION:Maison des associations 32410 Beaucaire\, avenue du Ponant\, Beaucaire\, 32410\, France
CATEGORIES:Bibliothèque
ATTACH;FMTTYPE=image/jpeg:https://fepbeaucaire.fr/wp-content/uploads/sites/2/2024/01/Bibliotheque.jpg
END:VEVENT
BEGIN:VEVENT
DTSTART;TZID=Europe/Paris:20231210T093000
DTEND;TZID=Europe/Paris:20231210T130000
DTSTAMP:20260419T140728
CREATED:20231109T211924Z
LAST-MODIFIED:20231112T220739Z
UID:283-1702200600-1702213200@fepbeaucaire.fr
SUMMARY:Bikerienne 2023/24
DESCRIPTION:
URL:https://fepbeaucaire.fr/evenement/bikerienne-2023-24/
LOCATION:Place du Village\, Beaucaire\, 32410
CATEGORIES:VTT
ATTACH;FMTTYPE=image/jpeg:https://fepbeaucaire.fr/wp-content/uploads/sites/2/2023/11/AFF02-CHALL-A4-2024-B.jpg
ORGANIZER;CN="KUROWSKI LAURENT":MAILTO:laurent.kurowski@sfr.fr
END:VEVENT
BEGIN:VEVENT
DTSTART;TZID=Europe/Paris:20231202T190000
DTEND;TZID=Europe/Paris:20231202T230000
DTSTAMP:20260419T140728
CREATED:20231124T101329Z
LAST-MODIFIED:20231124T101329Z
UID:305-1701543600-1701558000@fepbeaucaire.fr
SUMMARY:Soirée de Noël
DESCRIPTION:
URL:https://fepbeaucaire.fr/evenement/soiree-de-noel/
LOCATION:Place du Village\, Beaucaire\, 32410
CATEGORIES:Café des platanes
ATTACH;FMTTYPE=image/jpeg:https://fepbeaucaire.fr/wp-content/uploads/sites/2/2023/11/Soiree-de-Noel.jpg
END:VEVENT
BEGIN:VEVENT
DTSTART;TZID=Europe/Paris:20231124T204500
DTEND;TZID=Europe/Paris:20231124T220000
DTSTAMP:20260419T140728
CREATED:20231124T102329Z
LAST-MODIFIED:20231124T102329Z
UID:311-1700858700-1700863200@fepbeaucaire.fr
SUMMARY:Assemblée Générale 2023
DESCRIPTION:Le 24/11/2023 à 20h45 à la maison des associations.
URL:https://fepbeaucaire.fr/evenement/assemblee-generale-2023/
LOCATION:Maison des associations 32410 Beaucaire\, avenue du Ponant\, Beaucaire\, 32410\, France
END:VEVENT
BEGIN:VEVENT
DTSTART;TZID=Europe/Paris:20231028T150000
DTEND;TZID=Europe/Paris:20231028T220000
DTSTAMP:20260419T140728
CREATED:20231025T081219Z
LAST-MODIFIED:20231025T081219Z
UID:278-1698505200-1698530400@fepbeaucaire.fr
SUMMARY:Halloween à Beaucaire
DESCRIPTION:
URL:https://fepbeaucaire.fr/evenement/halloween-a-beaucaire/
LOCATION:Place du Village\, Beaucaire\, 32410
END:VEVENT
BEGIN:VEVENT
DTSTART;TZID=Europe/Paris:20230725T170000
DTEND;TZID=Europe/Paris:20230725T180000
DTSTAMP:20260419T140728
CREATED:20230711T135006Z
LAST-MODIFIED:20230711T135006Z
UID:193-1690304400-1690308000@fepbeaucaire.fr
SUMMARY:Cours de sport
DESCRIPTION:Venez participer aux cours de sport proposés par Carmen le mardi!! \n2 sessions d’une heure sont possibles\, une à 17h et l’autre à 20h\, choisissez votre horaire et contactez nous pour vous inscrire c’est gratuit 😉
URL:https://fepbeaucaire.fr/evenement/cours-de-sport-3/
CATEGORIES:Cours/Ateliers
ATTACH;FMTTYPE=image/jpeg:https://fepbeaucaire.fr/wp-content/uploads/sites/2/2023/07/Cours-de-sport-1.jpg
END:VEVENT
BEGIN:VEVENT
DTSTART;TZID=Europe/Paris:20230721T180000
DTEND;TZID=Europe/Paris:20230723T210000
DTSTAMP:20260419T140728
CREATED:20230711T133756Z
LAST-MODIFIED:20230711T133756Z
UID:186-1689962400-1690146000@fepbeaucaire.fr
SUMMARY:Beaucaire en fêtes
DESCRIPTION:Du vendredi 21 juillet au dimanche 23 juillet 2023\, venez nombreux profiter des repas\, concert et activité prévu pour ce weekend de fête!!! \nAu programme : \nVendredi 21/07: Le repas des chasseurs à partir de 20h (réservation au 06 84 72 86 43) avec une animation musical par EUX \nSamedi 22/07: \n\n9h le concours de pêche enfants\, le rdv se fera sur la place\n15h les jeux à la sauce Beaucaire\, viens avec ta bonne humeur !!!\n20h le traditionnel repas moules-frites avec en concert gratuit The Why Not et Pop Shaker\n\nDimanche 23/07: \n\n8h concours de pêche Adultes (accueil dès 6h)\n9h promenade champêtre à pied / VTT rando des copains\n15h concours de pétanque amateur en doublette\nApéro de cloture avec assiette apéritive
URL:https://fepbeaucaire.fr/evenement/beaucaire-en-fetes/
LOCATION:Place du Village\, Beaucaire\, 32410
CATEGORIES:Fête du village
ATTACH;FMTTYPE=image/jpeg:https://fepbeaucaire.fr/wp-content/uploads/sites/2/2023/07/AFF01-FETE-2023-A3-03-scaled.jpg
END:VEVENT
BEGIN:VEVENT
DTSTART;TZID=Europe/Paris:20230718T170000
DTEND;TZID=Europe/Paris:20230718T180000
DTSTAMP:20260419T140728
CREATED:20230711T134814Z
LAST-MODIFIED:20230711T134847Z
UID:191-1689699600-1689703200@fepbeaucaire.fr
SUMMARY:Cours de sport
DESCRIPTION:Venez participer aux cours de sport proposés par Carmen le mardi!! \n2 sessions d’une heure sont possibles\, une à 17h et l’autre à 20h\, choisissez votre horaire et contactez nous pour vous inscrire c’est gratuit 😉
URL:https://fepbeaucaire.fr/evenement/cours-de-sport-2/
CATEGORIES:Cours/Ateliers
ATTACH;FMTTYPE=image/jpeg:https://fepbeaucaire.fr/wp-content/uploads/sites/2/2023/07/Cours-de-sport-1.jpg
END:VEVENT
BEGIN:VEVENT
DTSTART;TZID=Europe/Paris:20230713T190000
DTEND;TZID=Europe/Paris:20230713T230000
DTSTAMP:20260419T140728
CREATED:20230711T142920Z
LAST-MODIFIED:20230711T142920Z
UID:195-1689274800-1689289200@fepbeaucaire.fr
SUMMARY:Café des platanes avant le feu d'artifice
DESCRIPTION:
URL:https://fepbeaucaire.fr/evenement/cafe-des-platanes-avant-le-feu-dartifice/
LOCATION:Place du Village\, Beaucaire\, 32410
CATEGORIES:Café des platanes
ATTACH;FMTTYPE=image/jpeg:https://fepbeaucaire.fr/wp-content/uploads/sites/2/2023/07/Feu-dartifice-1.jpg
END:VEVENT
BEGIN:VEVENT
DTSTART;TZID=Europe/Paris:20230711T170000
DTEND;TZID=Europe/Paris:20230711T180000
DTSTAMP:20260419T140728
CREATED:20230711T134720Z
LAST-MODIFIED:20230711T134720Z
UID:188-1689094800-1689098400@fepbeaucaire.fr
SUMMARY:Cours de Sport
DESCRIPTION:Venez participer aux cours de sport proposés par Carmen le mardi!! \n2 sessions d’une heure sont possibles\, une à 17h et l’autre à 20h\, choisissez votre horaire et contactez nous pour vous inscrire c’est gratuit 😉 \n 
URL:https://fepbeaucaire.fr/evenement/cours-de-sport/
CATEGORIES:Cours/Ateliers
ATTACH;FMTTYPE=image/jpeg:https://fepbeaucaire.fr/wp-content/uploads/sites/2/2023/07/Cours-de-sport-1.jpg
END:VEVENT
BEGIN:VEVENT
DTSTART;TZID=Europe/Paris:20230625T070000
DTEND;TZID=Europe/Paris:20230625T170000
DTSTAMP:20260419T140728
CREATED:20230620T131105Z
LAST-MODIFIED:20230620T133645Z
UID:101-1687676400-1687712400@fepbeaucaire.fr
SUMMARY:Vide Grenier Juin 2023
DESCRIPTION:Dénichez la perle rare ou redonnez une seconde vie à vos objets au vide grenier de Beaucaire de 8h à 17h. \nTarifs : 2€/ml ( 10 ml maximum).\nInstallation possible dès 6h. \nInscriptions auprès de M. Ledieu au 06 82 64 45 58 ou Mme Limbour au 05 62 68 11 91.
URL:https://fepbeaucaire.fr/evenement/vide-grenier-juin-2023/
LOCATION:Place du Village\, Beaucaire\, 32410
CATEGORIES:Vide Grenier
ATTACH;FMTTYPE=image/jpeg:https://fepbeaucaire.fr/wp-content/uploads/sites/2/2023/06/vide-greniers-brocante-Beaucaire-32_l_587715.jpg
END:VEVENT
BEGIN:VEVENT
DTSTART;VALUE=DATE:20230625
DTEND;VALUE=DATE:20230626
DTSTAMP:20260419T140728
CREATED:20230620T131515Z
LAST-MODIFIED:20230621T085919Z
UID:105-1687651200-1687737599@fepbeaucaire.fr
SUMMARY:XC 2023
DESCRIPTION:Dossier d’information en cliquant ici 
URL:https://fepbeaucaire.fr/evenement/xc-2023/
CATEGORIES:VTT
ATTACH;FMTTYPE=image/jpeg:https://fepbeaucaire.fr/wp-content/uploads/sites/2/2023/06/VTT-XC2023.jpeg
END:VEVENT
END:VCALENDAR